BEGIN:VCALENDAR
PRODID:-//Microsoft Corporation//Outlook MIMEDIR//EN
VERSION:2.0
METHOD:PUBLISH
BEGIN:VEVENT
DTSTART:20260414T130000
DTEND:20260414T140000
DESCRIPTION:
LOCATION:324 S. Saginaw St., Room 1014
SUMMARY:Brownfield Redevelopment Authority
CATEGORIES:MEETING
END:VEVENT
END:VCALENDAR
